BEGIN:VCALENDAR
VERSION:2.0
PRODID:-//Domaine De Marquestau - ECPv6.15.20//NONSGML v1.0//EN
CALSCALE:GREGORIAN
METHOD:PUBLISH
X-WR-CALNAME:Domaine De Marquestau
X-ORIGINAL-URL:https://marquestauandco.com
X-WR-CALDESC:Évènements pour Domaine De Marquestau
REFRESH-INTERVAL;VALUE=DURATION:PT1H
X-Robots-Tag:noindex
X-PUBLISHED-TTL:PT1H
BEGIN:VTIMEZONE
TZID:Europe/Paris
BEGIN:DAYLIGHT
TZOFFSETFROM:+0100
TZOFFSETTO:+0200
TZNAME:CEST
DTSTART:20220327T010000
END:DAYLIGHT
BEGIN:STANDARD
TZOFFSETFROM:+0200
TZOFFSETTO:+0100
TZNAME:CET
DTSTART:20221030T010000
END:STANDARD
BEGIN:DAYLIGHT
TZOFFSETFROM:+0100
TZOFFSETTO:+0200
TZNAME:CEST
DTSTART:20230326T010000
END:DAYLIGHT
BEGIN:STANDARD
TZOFFSETFROM:+0200
TZOFFSETTO:+0100
TZNAME:CET
DTSTART:20231029T010000
END:STANDARD
BEGIN:DAYLIGHT
TZOFFSETFROM:+0100
TZOFFSETTO:+0200
TZNAME:CEST
DTSTART:20240331T010000
END:DAYLIGHT
BEGIN:STANDARD
TZOFFSETFROM:+0200
TZOFFSETTO:+0100
TZNAME:CET
DTSTART:20241027T010000
END:STANDARD
BEGIN:DAYLIGHT
TZOFFSETFROM:+0100
TZOFFSETTO:+0200
TZNAME:CEST
DTSTART:20250330T010000
END:DAYLIGHT
BEGIN:STANDARD
TZOFFSETFROM:+0200
TZOFFSETTO:+0100
TZNAME:CET
DTSTART:20251026T010000
END:STANDARD
END:VTIMEZONE
BEGIN:VEVENT
DTSTART;TZID=Europe/Paris:20231231T190000
DTEND;TZID=Europe/Paris:20240101T020000
DTSTAMP:20260423T144649
CREATED:20231106T155546Z
LAST-MODIFIED:20231113T224832Z
UID:4639-1704049200-1704074400@marquestauandco.com
SUMMARY:Saint Sylvestre à l'éTable
DESCRIPTION:Célébrez la Saint-Sylvestre avec un faste gastronomique à l’éTable de Marquestau. Notre chef a méticuleusement composé un menu qui fait écho à la magie de la soirée.
URL:https://marquestauandco.com/agenda/saint-sylvestre-a-letable/
LOCATION:l’éTable\, 1095\, Route de Marquestau\, Hontanx\, 40190\, France
CATEGORIES:Evenements
ATTACH;FMTTYPE=image/jpeg:https://marquestauandco.com/wp-content/uploads/marquestau-menu-saint-sylvestre-jpeg.webp
ORGANIZER;CN="L'%C3%A9Table de Marquestau":MAILTO:etable@marquestau.com
END:VEVENT
BEGIN:VEVENT
DTSTART;TZID=Europe/Paris:20240126T190000
DTEND;TZID=Europe/Paris:20240127T000000
DTSTAMP:20260423T144649
CREATED:20240118T161059Z
LAST-MODIFIED:20240119T105004Z
UID:6051-1706295600-1706313600@marquestauandco.com
SUMMARY:Soirée Terroir avec Concert à l'éTable de Marquestau
DESCRIPTION:Rejoignez-nous le 26 janvier 2024 à l’éTable de Marquestau pour une Soirée Terroir unique\, alliant gastronomie landaise et concert privé de Lilou et Fabien. Vivez une expérience culinaire et musicale inoubliable au cœur des Landes. Réservez maintenant !
URL:https://marquestauandco.com/agenda/soiree-terroir-avec-concert-a-letable-de-marquestau/
LOCATION:l’éTable\, 1095\, Route de Marquestau\, Hontanx\, 40190\, France
CATEGORIES:Evenements
ATTACH;FMTTYPE=image/jpeg:https://marquestauandco.com/wp-content/uploads/marquestau-etable-menu-terroir-jpg.webp
ORGANIZER;CN="L'%C3%A9Table de Marquestau":MAILTO:etable@marquestau.com
END:VEVENT
END:VCALENDAR