BEGIN:VCALENDAR
VERSION:2.0
PRODID:-//Domaine De Marquestau - ECPv6.15.20//NONSGML v1.0//EN
CALSCALE:GREGORIAN
METHOD:PUBLISH
X-ORIGINAL-URL:https://marquestauandco.com
X-WR-CALDESC:Évènements pour Domaine De Marquestau
REFRESH-INTERVAL;VALUE=DURATION:PT1H
X-Robots-Tag:noindex
X-PUBLISHED-TTL:PT1H
BEGIN:VTIMEZONE
TZID:Europe/Paris
BEGIN:DAYLIGHT
TZOFFSETFROM:+0100
TZOFFSETTO:+0200
TZNAME:CEST
DTSTART:20230326T010000
END:DAYLIGHT
BEGIN:STANDARD
TZOFFSETFROM:+0200
TZOFFSETTO:+0100
TZNAME:CET
DTSTART:20231029T010000
END:STANDARD
BEGIN:DAYLIGHT
TZOFFSETFROM:+0100
TZOFFSETTO:+0200
TZNAME:CEST
DTSTART:20240331T010000
END:DAYLIGHT
BEGIN:STANDARD
TZOFFSETFROM:+0200
TZOFFSETTO:+0100
TZNAME:CET
DTSTART:20241027T010000
END:STANDARD
BEGIN:DAYLIGHT
TZOFFSETFROM:+0100
TZOFFSETTO:+0200
TZNAME:CEST
DTSTART:20250330T010000
END:DAYLIGHT
BEGIN:STANDARD
TZOFFSETFROM:+0200
TZOFFSETTO:+0100
TZNAME:CET
DTSTART:20251026T010000
END:STANDARD
END:VTIMEZONE
BEGIN:VEVENT
DTSTART;TZID=Europe/Paris:20240531T210000
DTEND;TZID=Europe/Paris:20240601T010000
DTSTAMP:20260423T065840
CREATED:20240504T105130Z
LAST-MODIFIED:20240715T212301Z
UID:8398-1717189200-1717203600@marquestauandco.com
SUMMARY:Soirée Braséro
DESCRIPTION:Détendez-vous sous les étoiles lors de notre soirée Braséro au Domaine de Marquestau le 31 mai. Profitez d’une ambiance chaleureuse autour du feu\, dégustez des grillades savoureuses et partagez des instants de convivialité inoubliables. Réservez dès maintenant !
URL:https://marquestauandco.com/agenda/soiree-brasero/
LOCATION:l’éTable\, 1095\, Route de Marquestau\, Hontanx\, 40190\, France
CATEGORIES:Evenements
ORGANIZER;CN="L'%C3%A9Table de Marquestau":MAILTO:etable@marquestau.com
END:VEVENT
BEGIN:VEVENT
DTSTART;TZID=Europe/Paris:20240602T110000
DTEND;TZID=Europe/Paris:20240602T170000
DTSTAMP:20260423T065840
CREATED:20240412T192801Z
LAST-MODIFIED:20240715T212301Z
UID:7908-1717326000-1717347600@marquestauandco.com
SUMMARY:Brunch du printemps
DESCRIPTION:Le 2 juin à l’éTable de Marquestau\, rejoignez-nous pour un brunch aux notes printanières. 
URL:https://marquestauandco.com/agenda/brunch-du-printemps-5/
LOCATION:l’éTable\, 1095\, Route de Marquestau\, Hontanx\, 40190\, France
CATEGORIES:Brunchs,Evenements
ATTACH;FMTTYPE=image/jpeg:https://marquestauandco.com/wp-content/uploads/marquestau-l-etable-bar-jpg.webp
ORGANIZER;CN="L'%C3%A9Table de Marquestau":MAILTO:etable@marquestau.com
END:VEVENT
BEGIN:VEVENT
DTSTART;TZID=Europe/Paris:20240608T120000
DTEND;TZID=Europe/Paris:20240609T000000
DTSTAMP:20260423T065840
CREATED:20240409T145115Z
LAST-MODIFIED:20240715T212301Z
UID:7826-1717848000-1717891200@marquestauandco.com
SUMMARY:Vaca Rosa
DESCRIPTION:Rejoignez l’aventure de la house music avec Vaca Rosa\, qui marque le premier anniversaire de l’éTable au Domaine de Marquestau. Une journée (midi-minuit) riche en musique\, saveurs et divertissement vous attend. Vivez l’exaltation et l’énergie collective de cet événement unique. Réservation à partir du 15 avril\, les places sont limitées !
URL:https://marquestauandco.com/agenda/vaca-rosa/
LOCATION:l’éTable\, 1095\, Route de Marquestau\, Hontanx\, 40190\, France
CATEGORIES:Evenements
ATTACH;FMTTYPE=image/jpeg:https://marquestauandco.com/wp-content/uploads/vacarosa-officiel-jpeg.webp
ORGANIZER;CN="Vaca Rosa":MAILTO:billeterie@vacarosa.fr
END:VEVENT
BEGIN:VEVENT
DTSTART;TZID=Europe/Paris:20240630T110000
DTEND;TZID=Europe/Paris:20240630T170000
DTSTAMP:20260423T065840
CREATED:20240703T093953Z
LAST-MODIFIED:20240715T212301Z
UID:9723-1719745200-1719766800@marquestauandco.com
SUMMARY:Brunch
DESCRIPTION:Le 30 juin à l’éTable de Marquestau\, rejoignez-nous pour un brunch aux notes printanières. 
URL:https://marquestauandco.com/agenda/brunch/
LOCATION:l’éTable\, 1095\, Route de Marquestau\, Hontanx\, 40190\, France
CATEGORIES:Brunchs,Evenements
ATTACH;FMTTYPE=image/jpeg:https://marquestauandco.com/wp-content/uploads/marquestau-l-etable-bar-jpg.webp
ORGANIZER;CN="L'%C3%A9Table de Marquestau":MAILTO:etable@marquestau.com
END:VEVENT
END:VCALENDAR