BEGIN:VCALENDAR
VERSION:2.0
PRODID:-//Domaine De Marquestau - ECPv6.15.20//NONSGML v1.0//EN
CALSCALE:GREGORIAN
METHOD:PUBLISH
X-WR-CALNAME:Domaine De Marquestau
X-ORIGINAL-URL:https://marquestauandco.com
X-WR-CALDESC:Évènements pour Domaine De Marquestau
REFRESH-INTERVAL;VALUE=DURATION:PT1H
X-Robots-Tag:noindex
X-PUBLISHED-TTL:PT1H
BEGIN:VTIMEZONE
TZID:Europe/Paris
BEGIN:DAYLIGHT
TZOFFSETFROM:+0100
TZOFFSETTO:+0200
TZNAME:CEST
DTSTART:20230326T010000
END:DAYLIGHT
BEGIN:STANDARD
TZOFFSETFROM:+0200
TZOFFSETTO:+0100
TZNAME:CET
DTSTART:20231029T010000
END:STANDARD
BEGIN:DAYLIGHT
TZOFFSETFROM:+0100
TZOFFSETTO:+0200
TZNAME:CEST
DTSTART:20240331T010000
END:DAYLIGHT
BEGIN:STANDARD
TZOFFSETFROM:+0200
TZOFFSETTO:+0100
TZNAME:CET
DTSTART:20241027T010000
END:STANDARD
BEGIN:DAYLIGHT
TZOFFSETFROM:+0100
TZOFFSETTO:+0200
TZNAME:CEST
DTSTART:20250330T010000
END:DAYLIGHT
BEGIN:STANDARD
TZOFFSETFROM:+0200
TZOFFSETTO:+0100
TZNAME:CET
DTSTART:20251026T010000
END:STANDARD
END:VTIMEZONE
BEGIN:VEVENT
DTSTART;TZID=Europe/Paris:20240705T193000
DTEND;TZID=Europe/Paris:20240706T010000
DTSTAMP:20260423T053451
CREATED:20240619T132230Z
LAST-MODIFIED:20240715T212301Z
UID:9285-1720207800-1720227600@marquestauandco.com
SUMMARY:Soirée Braséro
DESCRIPTION:Rejoignez-nous le vendredi 5 juillet à partir de 20h à l’Étable de Marquestau pour une soirée brasero pleine de surprises et de délices ! Notre chef\, Sylvain Mauran\, vous émerveillera avec une dégustation culinaire unique autour du brasero\, où chaque bouchée est une découverte. \nNouveauté de l’année : 🍹 Découvrez notre tout nouveau bar à cocktails extérieur\, spécialement conçu pour vous offrir une expérience encore plus agréable. Profitez de cocktails rafraîchissants sous les étoiles tout en savourant les créations culinaires de notre chef. \nDétails de l’événement : \n\nHeure d’arrivée : Entre 19h45 et 20h15 pour débuter la soirée dans les meilleures conditions.\nExpérience unique : Cette soirée est idéale pour ceux qui aiment l’effet de surprise et les nouvelles expériences gastronomiques.\n\nPourquoi venir ? \n\nAmbiance conviviale : Passez une soirée chaleureuse et conviviale dans le cadre enchanteur de Marquestau.\nSurprises gourmandes : Laissez-vous surprendre par des saveurs inédites et des plats créatifs.\nDétente et plaisir : Profitez d’un moment de détente avec vos proches\, tout en dégustant des plats savoureux et des cocktails exquis.\n\nNe manquez pas cet événement exceptionnel et réservez dès maintenant pour garantir votre place à cette soirée inoubliable. Nous avons hâte de vous accueillir et de partager avec vous une expérience culinaire mémorable ! \nRéservations : Pour réserver votre table\, contactez-nous au plus vite et préparez-vous à vivre une soirée brasero exceptionnelle à l’Étable de Marquestau.
URL:https://marquestauandco.com/agenda/soiree-brasero-2/
LOCATION:l’éTable\, 1095\, Route de Marquestau\, Hontanx\, 40190\, France
CATEGORIES:Evenements
ATTACH;FMTTYPE=image/jpeg:https://marquestauandco.com/wp-content/uploads/marquestau-etable-brasero-28-juin.jpg
ORGANIZER;CN="L'%C3%A9Table de Marquestau":MAILTO:etable@marquestau.com
END:VEVENT
BEGIN:VEVENT
DTSTART;TZID=Europe/Paris:20240707T110000
DTEND;TZID=Europe/Paris:20240707T170000
DTSTAMP:20260423T053451
CREATED:20240703T094115Z
LAST-MODIFIED:20240715T212301Z
UID:9725-1720350000-1720371600@marquestauandco.com
SUMMARY:Brunch
DESCRIPTION:Le 7 juillet à l’éTable de Marquestau\, rejoignez-nous pour un brunch aux notes estivales. 
URL:https://marquestauandco.com/agenda/brunch-2/
LOCATION:l’éTable\, 1095\, Route de Marquestau\, Hontanx\, 40190\, France
CATEGORIES:Brunchs,Evenements
ATTACH;FMTTYPE=image/jpeg:https://marquestauandco.com/wp-content/uploads/marquestau-l-etable-bar-jpg.webp
ORGANIZER;CN="L'%C3%A9Table de Marquestau":MAILTO:etable@marquestau.com
END:VEVENT
BEGIN:VEVENT
DTSTART;TZID=Europe/Paris:20240725T193000
DTEND;TZID=Europe/Paris:20240726T010000
DTSTAMP:20260423T053451
CREATED:20240715T205935Z
LAST-MODIFIED:20240715T212301Z
UID:10036-1721935800-1721955600@marquestauandco.com
SUMMARY:Soirée Braséro
DESCRIPTION:Rejoignez-nous le jeudi 25 juillet à partir de 20h à l’Étable de Marquestau pour une soirée brasero pleine de surprises et de délices ! Notre chef\, Sylvain Mauran\, vous émerveillera avec une dégustation culinaire unique autour du brasero\, où chaque bouchée est une découverte. \nNouveauté de l’année : 🍹 Découvrez notre tout nouveau bar à cocktails extérieur\, spécialement conçu pour vous offrir une expérience encore plus agréable. Profitez de cocktails rafraîchissants sous les étoiles tout en savourant les créations culinaires de notre chef. \nDétails de l’événement : \n\nHeure d’arrivée : Entre 19h45 et 20h15 pour débuter la soirée dans les meilleures conditions.\nExpérience unique : Cette soirée est idéale pour ceux qui aiment l’effet de surprise et les nouvelles expériences gastronomiques.\n\nPourquoi venir ? \n\nAmbiance conviviale : Passez une soirée chaleureuse et conviviale dans le cadre enchanteur de Marquestau.\nSurprises gourmandes : Laissez-vous surprendre par des saveurs inédites et des plats créatifs.\nDétente et plaisir : Profitez d’un moment de détente avec vos proches\, tout en dégustant des plats savoureux et des cocktails exquis.\n\nNe manquez pas cet événement exceptionnel et réservez dès maintenant pour garantir votre place à cette soirée inoubliable. Nous avons hâte de vous accueillir et de partager avec vous une expérience culinaire mémorable ! \nRéservations : Pour réserver votre table\, contactez-nous au plus vite et préparez-vous à vivre une soirée brasero exceptionnelle à l’Étable de Marquestau.
URL:https://marquestauandco.com/agenda/soiree-brasero-3/
LOCATION:l’éTable\, 1095\, Route de Marquestau\, Hontanx\, 40190\, France
CATEGORIES:Evenements
ATTACH;FMTTYPE=image/jpeg:https://marquestauandco.com/wp-content/uploads/etable-brasero-25-juillet.jpg
ORGANIZER;CN="L'%C3%A9Table de Marquestau":MAILTO:etable@marquestau.com
END:VEVENT
END:VCALENDAR