BEGIN:VCALENDAR
VERSION:2.0
PRODID:-//Domaine De Marquestau - ECPv6.15.20//NONSGML v1.0//EN
CALSCALE:GREGORIAN
METHOD:PUBLISH
X-WR-CALNAME:Domaine De Marquestau
X-ORIGINAL-URL:https://marquestauandco.com
X-WR-CALDESC:Évènements pour Domaine De Marquestau
REFRESH-INTERVAL;VALUE=DURATION:PT1H
X-Robots-Tag:noindex
X-PUBLISHED-TTL:PT1H
BEGIN:VTIMEZONE
TZID:Europe/Paris
BEGIN:DAYLIGHT
TZOFFSETFROM:+0100
TZOFFSETTO:+0200
TZNAME:CEST
DTSTART:20230326T010000
END:DAYLIGHT
BEGIN:STANDARD
TZOFFSETFROM:+0200
TZOFFSETTO:+0100
TZNAME:CET
DTSTART:20231029T010000
END:STANDARD
BEGIN:DAYLIGHT
TZOFFSETFROM:+0100
TZOFFSETTO:+0200
TZNAME:CEST
DTSTART:20240331T010000
END:DAYLIGHT
BEGIN:STANDARD
TZOFFSETFROM:+0200
TZOFFSETTO:+0100
TZNAME:CET
DTSTART:20241027T010000
END:STANDARD
BEGIN:DAYLIGHT
TZOFFSETFROM:+0100
TZOFFSETTO:+0200
TZNAME:CEST
DTSTART:20250330T010000
END:DAYLIGHT
BEGIN:STANDARD
TZOFFSETFROM:+0200
TZOFFSETTO:+0100
TZNAME:CET
DTSTART:20251026T010000
END:STANDARD
BEGIN:DAYLIGHT
TZOFFSETFROM:+0100
TZOFFSETTO:+0200
TZNAME:CEST
DTSTART:20260329T010000
END:DAYLIGHT
BEGIN:STANDARD
TZOFFSETFROM:+0200
TZOFFSETTO:+0100
TZNAME:CET
DTSTART:20261025T010000
END:STANDARD
END:VTIMEZONE
BEGIN:VEVENT
DTSTART;TZID=Europe/Paris:20241201T110000
DTEND;TZID=Europe/Paris:20241201T170000
DTSTAMP:20260422T213854
CREATED:20241111T182102Z
LAST-MODIFIED:20241124T223813Z
UID:13361-1733050800-1733072400@marquestauandco.com
SUMMARY:Brunch
DESCRIPTION:Le 1er décembre à l’éTable de Marquestau\, rejoignez-nous pour un brunch aux notes automnales. 
URL:https://marquestauandco.com/agenda/brunch-15/
LOCATION:l’éTable\, 1095\, Route de Marquestau\, Hontanx\, 40190\, France
CATEGORIES:Brunchs,Evenements
ATTACH;FMTTYPE=image/jpeg:https://marquestauandco.com/wp-content/uploads/marquestau-l-etable-bar-jpg.webp
ORGANIZER;CN="L'%C3%A9Table de Marquestau":MAILTO:etable@marquestau.com
END:VEVENT
BEGIN:VEVENT
DTSTART;VALUE=DATE:20241202
DTEND;VALUE=DATE:20241210
DTSTAMP:20260422T213854
CREATED:20240927T114046Z
LAST-MODIFIED:20250629T063445Z
UID:12040-1733097600-1733788799@marquestauandco.com
SUMMARY:Distillation 2024
DESCRIPTION:
URL:https://marquestauandco.com/agenda/distillation-2024/
LOCATION:marquestau\, 1095 route de Marquestau\, HONTANX\, 40190\, France
CATEGORIES:Evenements
ATTACH;FMTTYPE=image/jpeg:https://marquestauandco.com/wp-content/uploads/marquestau-etable-distillation-2024.jpg
ORGANIZER;CN="L'%C3%A9Table de Marquestau":MAILTO:etable@marquestau.com
END:VEVENT
BEGIN:VEVENT
DTSTART;TZID=Europe/Paris:20241208T110000
DTEND;TZID=Europe/Paris:20241208T170000
DTSTAMP:20260422T213854
CREATED:20241016T084455Z
LAST-MODIFIED:20241124T223813Z
UID:12525-1733655600-1733677200@marquestauandco.com
SUMMARY:Brunch
DESCRIPTION:Rejoignez-nous le dimanche 8 décembre pour un brunch unique marquant la fin de la distillation au Domaine de Marquestau! \nUn moment convivial et gourmand vous attend\, avec des plats généreux mêlant tradition et créativité\, le tout dans une ambiance chaleureuse. Venez savourer des produits du terroir\, fraîchement préparés\, et découvrez les saveurs authentiques du domaine. Un véritable rendez-vous pour les épicuriens et les amateurs de moments partagés !
URL:https://marquestauandco.com/agenda/brunch-14/
LOCATION:l’éTable\, 1095\, Route de Marquestau\, Hontanx\, 40190\, France
CATEGORIES:Brunchs,Evenements
ATTACH;FMTTYPE=image/jpeg:https://marquestauandco.com/wp-content/uploads/marquestau-l-etable-bar-jpg.webp
ORGANIZER;CN="L'%C3%A9Table de Marquestau":MAILTO:etable@marquestau.com
END:VEVENT
BEGIN:VEVENT
DTSTART;TZID=Europe/Paris:20241215T110000
DTEND;TZID=Europe/Paris:20241215T170000
DTSTAMP:20260422T213854
CREATED:20241111T182347Z
LAST-MODIFIED:20241124T223813Z
UID:13363-1734260400-1734282000@marquestauandco.com
SUMMARY:Brunch
DESCRIPTION:Rejoignez-nous le dimanche 15 décembre au Domaine de Marquestau! \nUn moment convivial et gourmand vous attend\, avec des plats généreux mêlant tradition et créativité\, le tout dans une ambiance chaleureuse. Venez savourer des produits du terroir\, fraîchement préparés\, et découvrez les saveurs authentiques du domaine. Un véritable rendez-vous pour les épicuriens et les amateurs de moments partagés !
URL:https://marquestauandco.com/agenda/brunch-16/
LOCATION:l’éTable\, 1095\, Route de Marquestau\, Hontanx\, 40190\, France
CATEGORIES:Brunchs,Evenements
ATTACH;FMTTYPE=image/jpeg:https://marquestauandco.com/wp-content/uploads/marquestau-l-etable-bar-jpg.webp
ORGANIZER;CN="L'%C3%A9Table de Marquestau":MAILTO:etable@marquestau.com
END:VEVENT
BEGIN:VEVENT
DTSTART;TZID=Europe/Paris:20241219T193000
DTEND;TZID=Europe/Paris:20241219T233000
DTSTAMP:20260422T213854
CREATED:20241206T181700Z
LAST-MODIFIED:20241215T193430Z
UID:14424-1734636600-1734651000@marquestauandco.com
SUMMARY:Menu Canaille du jeudi soir
DESCRIPTION:Le jeudi 19 décembre\, rejoignez-nous à l’Étable du Domaine de Marquestau pour une Soirée Canaille qui s’annonce riche en saveurs et en convivialité ! Notre chef vous a préparé un menu audacieux et généreux\, inspiré des produits de saison et des traditions du terroir landais. \nCette soirée met à l’honneur des plats authentiques et réconfortants\, parfaits pour les amateurs de bonne chair et de moments partagés. Dans une ambiance chaleureuse et intimiste\, laissez-vous séduire par des mets qui allient simplicité et gourmandise. \nL’Étable du Domaine de Marquestau vous accueille pour cette expérience culinaire unique\, dédiée aux amoureux de la cuisine « canaille ». Venez partager un moment inoubliable en famille ou entre amis !
URL:https://marquestauandco.com/agenda/menu-canaille-du-vendredi-soir-6/
LOCATION:l’éTable\, 1095\, Route de Marquestau\, Hontanx\, 40190\, France
CATEGORIES:Evenements
ATTACH;FMTTYPE=image/jpeg:https://marquestauandco.com/wp-content/uploads/Menu-Canaille-Special.jpg
ORGANIZER;CN="L'%C3%A9Table de Marquestau":MAILTO:etable@marquestau.com
END:VEVENT
BEGIN:VEVENT
DTSTART;TZID=Europe/Paris:20241222T110000
DTEND;TZID=Europe/Paris:20241222T170000
DTSTAMP:20260422T213854
CREATED:20241111T182441Z
LAST-MODIFIED:20241124T223813Z
UID:13365-1734865200-1734886800@marquestauandco.com
SUMMARY:Brunch
DESCRIPTION:Rejoignez-nous le dimanche 22 décembre au Domaine de Marquestau! \nUn moment convivial et gourmand vous attend\, avec des plats généreux mêlant tradition et créativité\, le tout dans une ambiance chaleureuse. Venez savourer des produits du terroir\, fraîchement préparés\, et découvrez les saveurs authentiques du domaine. Un véritable rendez-vous pour les épicuriens et les amateurs de moments partagés !
URL:https://marquestauandco.com/agenda/brunch-17/
LOCATION:l’éTable\, 1095\, Route de Marquestau\, Hontanx\, 40190\, France
CATEGORIES:Brunchs,Evenements
ATTACH;FMTTYPE=image/jpeg:https://marquestauandco.com/wp-content/uploads/marquestau-l-etable-bar-jpg.webp
ORGANIZER;CN="L'%C3%A9Table de Marquestau":MAILTO:etable@marquestau.com
END:VEVENT
BEGIN:VEVENT
DTSTART;TZID=Europe/Paris:20241227T193000
DTEND;TZID=Europe/Paris:20241227T233000
DTSTAMP:20260422T213854
CREATED:20241206T221511Z
LAST-MODIFIED:20241215T193348Z
UID:14442-1735327800-1735342200@marquestauandco.com
SUMMARY:Menu Canaille du vendredi soir
DESCRIPTION:Le vendredi 27 décembre\, rejoignez-nous à l’Étable du Domaine de Marquestau pour une Soirée Canaille qui s’annonce riche en saveurs et en convivialité ! Notre chef vous a préparé un menu audacieux et généreux\, inspiré des produits de saison et des traditions du terroir landais. \nCette soirée met à l’honneur des plats authentiques et réconfortants\, parfaits pour les amateurs de bonne chair et de moments partagés. Dans une ambiance chaleureuse et intimiste\, laissez-vous séduire par des mets qui allient simplicité et gourmandise. \nL’Étable du Domaine de Marquestau vous accueille pour cette expérience culinaire unique\, dédiée aux amoureux de la cuisine « canaille ». Venez partager un moment inoubliable en famille ou entre amis !
URL:https://marquestauandco.com/agenda/menu-canaille-du-vendredi-soir-7/
LOCATION:l’éTable\, 1095\, Route de Marquestau\, Hontanx\, 40190\, France
CATEGORIES:Evenements
ATTACH;FMTTYPE=image/jpeg:https://marquestauandco.com/wp-content/uploads/etable-menu-canaille.jpg
ORGANIZER;CN="L'%C3%A9Table de Marquestau":MAILTO:etable@marquestau.com
END:VEVENT
BEGIN:VEVENT
DTSTART;TZID=Europe/Paris:20241229T110000
DTEND;TZID=Europe/Paris:20241229T170000
DTSTAMP:20260422T213854
CREATED:20241111T182620Z
LAST-MODIFIED:20241124T223813Z
UID:13367-1735470000-1735491600@marquestauandco.com
SUMMARY:Brunch
DESCRIPTION:Rejoignez-nous le dimanche 29 décembre au Domaine de Marquestau! \nUn moment convivial et gourmand vous attend\, avec des plats généreux mêlant tradition et créativité\, le tout dans une ambiance chaleureuse. Venez savourer des produits du terroir\, fraîchement préparés\, et découvrez les saveurs authentiques du domaine. Un véritable rendez-vous pour les épicuriens et les amateurs de moments partagés !
URL:https://marquestauandco.com/agenda/brunch-18/
LOCATION:l’éTable\, 1095\, Route de Marquestau\, Hontanx\, 40190\, France
CATEGORIES:Brunchs,Evenements
ATTACH;FMTTYPE=image/jpeg:https://marquestauandco.com/wp-content/uploads/marquestau-l-etable-bar-jpg.webp
ORGANIZER;CN="L'%C3%A9Table de Marquestau":MAILTO:etable@marquestau.com
END:VEVENT
BEGIN:VEVENT
DTSTART;TZID=Europe/Paris:20241231T190000
DTEND;TZID=Europe/Paris:20250101T020000
DTSTAMP:20260422T213854
CREATED:20241123T163017Z
LAST-MODIFIED:20241215T192831Z
UID:13862-1735671600-1735696800@marquestauandco.com
SUMMARY:Saint Sylvestre à l'éTable
DESCRIPTION:Célébrez la Saint-Sylvestre avec un faste gastronomique à l’éTable de Marquestau. Notre chef a méticuleusement composé un menu qui fait écho à la magie de la soirée.
URL:https://marquestauandco.com/agenda/saint-sylvestre-a-letable-2/
LOCATION:l’éTable\, 1095\, Route de Marquestau\, Hontanx\, 40190\, France
CATEGORIES:Evenements
ORGANIZER;CN="L'%C3%A9Table de Marquestau":MAILTO:etable@marquestau.com
END:VEVENT
END:VCALENDAR