BEGIN:VCALENDAR
VERSION:2.0
PRODID:-//Domaine De Marquestau - ECPv6.15.20//NONSGML v1.0//EN
CALSCALE:GREGORIAN
METHOD:PUBLISH
X-WR-CALNAME:Domaine De Marquestau
X-ORIGINAL-URL:https://marquestauandco.com
X-WR-CALDESC:Évènements pour Domaine De Marquestau
REFRESH-INTERVAL;VALUE=DURATION:PT1H
X-Robots-Tag:noindex
X-PUBLISHED-TTL:PT1H
BEGIN:VTIMEZONE
TZID:Europe/Paris
BEGIN:DAYLIGHT
TZOFFSETFROM:+0100
TZOFFSETTO:+0200
TZNAME:CEST
DTSTART:20240331T010000
END:DAYLIGHT
BEGIN:STANDARD
TZOFFSETFROM:+0200
TZOFFSETTO:+0100
TZNAME:CET
DTSTART:20241027T010000
END:STANDARD
BEGIN:DAYLIGHT
TZOFFSETFROM:+0100
TZOFFSETTO:+0200
TZNAME:CEST
DTSTART:20250330T010000
END:DAYLIGHT
BEGIN:STANDARD
TZOFFSETFROM:+0200
TZOFFSETTO:+0100
TZNAME:CET
DTSTART:20251026T010000
END:STANDARD
BEGIN:DAYLIGHT
TZOFFSETFROM:+0100
TZOFFSETTO:+0200
TZNAME:CEST
DTSTART:20260329T010000
END:DAYLIGHT
BEGIN:STANDARD
TZOFFSETFROM:+0200
TZOFFSETTO:+0100
TZNAME:CET
DTSTART:20261025T010000
END:STANDARD
END:VTIMEZONE
BEGIN:VEVENT
DTSTART;TZID=Europe/Paris:20250202T110000
DTEND;TZID=Europe/Paris:20250202T170000
DTSTAMP:20260422T183927
CREATED:20241213T124123Z
LAST-MODIFIED:20241213T124203Z
UID:14750-1738494000-1738515600@marquestauandco.com
SUMMARY:Brunch
DESCRIPTION:Rejoignez-nous le dimanche 2 février au Domaine de Marquestau! \nUn moment convivial et gourmand vous attend\, avec des plats généreux mêlant tradition et créativité\, le tout dans une ambiance chaleureuse. Venez savourer des produits du terroir\, fraîchement préparés\, et découvrez les saveurs authentiques du domaine. Un véritable rendez-vous pour les épicuriens et les amateurs de moments partagés !
URL:https://marquestauandco.com/agenda/brunch-23/
LOCATION:l’éTable\, 1095\, Route de Marquestau\, Hontanx\, 40190\, France
CATEGORIES:Brunchs,Evenements
ATTACH;FMTTYPE=image/jpeg:https://marquestauandco.com/wp-content/uploads/marquestau-etable-brunch-janvier-fevrier.jpg
ORGANIZER;CN="L'%C3%A9Table de Marquestau":MAILTO:etable@marquestau.com
END:VEVENT
BEGIN:VEVENT
DTSTART;TZID=Europe/Paris:20250207T193000
DTEND;TZID=Europe/Paris:20250207T233000
DTSTAMP:20260422T183927
CREATED:20250130T074419Z
LAST-MODIFIED:20250130T074419Z
UID:16570-1738956600-1738971000@marquestauandco.com
SUMMARY:Menu Canaille du vendredi soir
DESCRIPTION:Le vendredi 7 février\, rejoignez-nous à l’Étable du Domaine de Marquestau pour une Soirée Canaille qui s’annonce riche en saveurs et en convivialité ! Notre chef vous a préparé un menu audacieux et généreux\, inspiré des produits de saison et des traditions du terroir landais. \nCette soirée met à l’honneur des plats authentiques et réconfortants\, parfaits pour les amateurs de bonne chair et de moments partagés. Dans une ambiance chaleureuse et intimiste\, laissez-vous séduire par des mets qui allient simplicité et gourmandise. \nL’Étable du Domaine de Marquestau vous accueille pour cette expérience culinaire unique\, dédiée aux amoureux de la cuisine « canaille ». Venez partager un moment inoubliable en famille ou entre amis !
URL:https://marquestauandco.com/agenda/menu-canaille-du-vendredi-soir-12/
LOCATION:l’éTable\, 1095\, Route de Marquestau\, Hontanx\, 40190\, France
CATEGORIES:Evenements
ATTACH;FMTTYPE=image/jpeg:https://marquestauandco.com/wp-content/uploads/etable-menu-canaille.jpg
ORGANIZER;CN="L'%C3%A9Table de Marquestau":MAILTO:etable@marquestau.com
END:VEVENT
BEGIN:VEVENT
DTSTART;TZID=Europe/Paris:20250209T110000
DTEND;TZID=Europe/Paris:20250209T170000
DTSTAMP:20260422T183927
CREATED:20241213T124233Z
LAST-MODIFIED:20241213T125233Z
UID:14752-1739098800-1739120400@marquestauandco.com
SUMMARY:Brunch
DESCRIPTION:Rejoignez-nous le dimanche 9 février au Domaine de Marquestau! \nUn moment convivial et gourmand vous attend\, avec des plats généreux mêlant tradition et créativité\, le tout dans une ambiance chaleureuse. Venez savourer des produits du terroir\, fraîchement préparés\, et découvrez les saveurs authentiques du domaine. Un véritable rendez-vous pour les épicuriens et les amateurs de moments partagés !
URL:https://marquestauandco.com/agenda/brunch-24/
LOCATION:l’éTable\, 1095\, Route de Marquestau\, Hontanx\, 40190\, France
CATEGORIES:Brunchs,Evenements
ATTACH;FMTTYPE=image/jpeg:https://marquestauandco.com/wp-content/uploads/marquestau-etable-brunch-janvier-fevrier.jpg
ORGANIZER;CN="L'%C3%A9Table de Marquestau":MAILTO:etable@marquestau.com
END:VEVENT
BEGIN:VEVENT
DTSTART;TZID=Europe/Paris:20250214T193000
DTEND;TZID=Europe/Paris:20250214T233000
DTSTAMP:20260422T183927
CREATED:20250109T105737Z
LAST-MODIFIED:20250109T105737Z
UID:16026-1739561400-1739575800@marquestauandco.com
SUMMARY:Saint Valentin
DESCRIPTION:Le vendredi 14 février\, rejoignez-nous à l’Étable du Domaine de Marquestau pour une Soirée Canaille qui s’annonce riche en saveurs et en convivialité ! Notre chef vous a préparé un menu audacieux et généreux\, inspiré des produits de saison et des traditions du terroir landais. \nCette soirée met à l’honneur des plats authentiques et réconfortants\, parfaits pour les amateurs de bonne chair et de moments partagés. Dans une ambiance chaleureuse et intimiste\, laissez-vous séduire par des mets qui allient simplicité et gourmandise. \nL’Étable du Domaine de Marquestau vous accueille pour cette expérience culinaire unique\, dédiée aux amoureux de la cuisine « canaille ». Venez partager un moment inoubliable en famille ou entre amis !
URL:https://marquestauandco.com/agenda/saint-valentin/
LOCATION:l’éTable\, 1095\, Route de Marquestau\, Hontanx\, 40190\, France
CATEGORIES:Evenements
ORGANIZER;CN="L'%C3%A9Table de Marquestau":MAILTO:etable@marquestau.com
END:VEVENT
BEGIN:VEVENT
DTSTART;TZID=Europe/Paris:20250216T110000
DTEND;TZID=Europe/Paris:20250216T170000
DTSTAMP:20260422T183927
CREATED:20241213T124334Z
LAST-MODIFIED:20241213T125233Z
UID:14755-1739703600-1739725200@marquestauandco.com
SUMMARY:Brunch
DESCRIPTION:Rejoignez-nous le dimanche 16 février au Domaine de Marquestau! \nUn moment convivial et gourmand vous attend\, avec des plats généreux mêlant tradition et créativité\, le tout dans une ambiance chaleureuse. Venez savourer des produits du terroir\, fraîchement préparés\, et découvrez les saveurs authentiques du domaine. Un véritable rendez-vous pour les épicuriens et les amateurs de moments partagés !
URL:https://marquestauandco.com/agenda/brunch-25/
LOCATION:l’éTable\, 1095\, Route de Marquestau\, Hontanx\, 40190\, France
CATEGORIES:Brunchs,Evenements
ATTACH;FMTTYPE=image/jpeg:https://marquestauandco.com/wp-content/uploads/marquestau-etable-brunch-janvier-fevrier.jpg
ORGANIZER;CN="L'%C3%A9Table de Marquestau":MAILTO:etable@marquestau.com
END:VEVENT
BEGIN:VEVENT
DTSTART;TZID=Europe/Paris:20250222T200000
DTEND;TZID=Europe/Paris:20250222T233000
DTSTAMP:20260422T183927
CREATED:20250208T114904Z
LAST-MODIFIED:20250208T114904Z
UID:16907-1740254400-1740267000@marquestauandco.com
SUMMARY:🫕 Soirée Raclette à l’Étable
DESCRIPTION:Le 22 février\, l’Étable de Marquestau vous invite à une soirée raclette exceptionnelle en partenariat avec La Crèmerie de Fabien. Fromages affinés\, charcuteries fines et ambiance conviviale au rendez-vous ! Réservez vite votre table.
URL:https://marquestauandco.com/agenda/%f0%9f%ab%95-soiree-raclette-a-letable/
LOCATION:l’éTable\, 1095\, Route de Marquestau\, Hontanx\, 40190\, France
CATEGORIES:Evenements
ATTACH;FMTTYPE=image/jpeg:https://marquestauandco.com/wp-content/uploads/marquestau-etable-raclette.jpg
ORGANIZER;CN="L'%C3%A9Table de Marquestau":MAILTO:etable@marquestau.com
END:VEVENT
BEGIN:VEVENT
DTSTART;TZID=Europe/Paris:20250223T110000
DTEND;TZID=Europe/Paris:20250223T170000
DTSTAMP:20260422T183927
CREATED:20241213T124402Z
LAST-MODIFIED:20241213T125233Z
UID:14757-1740308400-1740330000@marquestauandco.com
SUMMARY:Brunch
DESCRIPTION:Rejoignez-nous le dimanche 23 février au Domaine de Marquestau! \nUn moment convivial et gourmand vous attend\, avec des plats généreux mêlant tradition et créativité\, le tout dans une ambiance chaleureuse. Venez savourer des produits du terroir\, fraîchement préparés\, et découvrez les saveurs authentiques du domaine. Un véritable rendez-vous pour les épicuriens et les amateurs de moments partagés !
URL:https://marquestauandco.com/agenda/brunch-26/
LOCATION:l’éTable\, 1095\, Route de Marquestau\, Hontanx\, 40190\, France
CATEGORIES:Brunchs,Evenements
ATTACH;FMTTYPE=image/jpeg:https://marquestauandco.com/wp-content/uploads/marquestau-etable-brunch-janvier-fevrier.jpg
ORGANIZER;CN="L'%C3%A9Table de Marquestau":MAILTO:etable@marquestau.com
END:VEVENT
END:VCALENDAR