BEGIN:VCALENDAR
VERSION:2.0
PRODID:-//Domaine De Marquestau - ECPv6.15.20//NONSGML v1.0//EN
CALSCALE:GREGORIAN
METHOD:PUBLISH
X-WR-CALNAME:Domaine De Marquestau
X-ORIGINAL-URL:https://marquestauandco.com
X-WR-CALDESC:Évènements pour Domaine De Marquestau
REFRESH-INTERVAL;VALUE=DURATION:PT1H
X-Robots-Tag:noindex
X-PUBLISHED-TTL:PT1H
BEGIN:VTIMEZONE
TZID:Europe/Paris
BEGIN:DAYLIGHT
TZOFFSETFROM:+0100
TZOFFSETTO:+0200
TZNAME:CEST
DTSTART:20240331T010000
END:DAYLIGHT
BEGIN:STANDARD
TZOFFSETFROM:+0200
TZOFFSETTO:+0100
TZNAME:CET
DTSTART:20241027T010000
END:STANDARD
BEGIN:DAYLIGHT
TZOFFSETFROM:+0100
TZOFFSETTO:+0200
TZNAME:CEST
DTSTART:20250330T010000
END:DAYLIGHT
BEGIN:STANDARD
TZOFFSETFROM:+0200
TZOFFSETTO:+0100
TZNAME:CET
DTSTART:20251026T010000
END:STANDARD
BEGIN:DAYLIGHT
TZOFFSETFROM:+0100
TZOFFSETTO:+0200
TZNAME:CEST
DTSTART:20260329T010000
END:DAYLIGHT
BEGIN:STANDARD
TZOFFSETFROM:+0200
TZOFFSETTO:+0100
TZNAME:CET
DTSTART:20261025T010000
END:STANDARD
END:VTIMEZONE
BEGIN:VEVENT
DTSTART;TZID=Europe/Paris:20250430T193000
DTEND;TZID=Europe/Paris:20250501T010000
DTSTAMP:20260422T132936
CREATED:20250402T082014Z
LAST-MODIFIED:20250416T130017Z
UID:17780-1746041400-1746061200@marquestauandco.com
SUMMARY:Soirée Filles
DESCRIPTION:Rendez-vous le mercredi 30 avril 2025 pour une soirée 100 % féminine\, festive et pleine de surprises au Domaine de Marquestau ! \nL’Étable se transforme pour vous offrir une parenthèse entre amies ou en solo\, dans une ambiance chaleureuse\, joyeuse et décomplexée. Cette nouvelle édition s’annonce riche et éclectique avec un programme pensé pour vous chouchouter\, vous faire plaisir et vous surprendre. \n🌟 Au programme :\n✨ Mode vintage & créateurs✨ Bijoux et accessoires✨ Tatouages & manucures✨ Soins & cartomancie✨ Tapas gourmands préparés avec ❤️ par Sylvain Mauran✨ Cocktails signature by Marquestau✨ Et bien d’autres surprises… \nUne soirée à ne pas manquer pour se faire du bien\, rire\, échanger\, et partager un bon moment dans l’univers unique de Marquestau.
URL:https://marquestauandco.com/agenda/soiree-filles-2/
LOCATION:l’éTable\, 1095\, Route de Marquestau\, Hontanx\, 40190\, France
CATEGORIES:Evenements
ATTACH;FMTTYPE=image/jpeg:https://marquestauandco.com/wp-content/uploads/marquestau-etable-soiree-filles-30-avril.jpg
ORGANIZER;CN="L'%C3%A9Table de Marquestau":MAILTO:etable@marquestau.com
END:VEVENT
END:VCALENDAR