BEGIN:VCALENDAR
VERSION:2.0
PRODID:-//Domaine De Marquestau - ECPv6.15.20//NONSGML v1.0//EN
CALSCALE:GREGORIAN
METHOD:PUBLISH
X-WR-CALNAME:Domaine De Marquestau
X-ORIGINAL-URL:https://marquestauandco.com
X-WR-CALDESC:Évènements pour Domaine De Marquestau
REFRESH-INTERVAL;VALUE=DURATION:PT1H
X-Robots-Tag:noindex
X-PUBLISHED-TTL:PT1H
BEGIN:VTIMEZONE
TZID:Europe/Paris
BEGIN:DAYLIGHT
TZOFFSETFROM:+0100
TZOFFSETTO:+0200
TZNAME:CEST
DTSTART:20240331T010000
END:DAYLIGHT
BEGIN:STANDARD
TZOFFSETFROM:+0200
TZOFFSETTO:+0100
TZNAME:CET
DTSTART:20241027T010000
END:STANDARD
BEGIN:DAYLIGHT
TZOFFSETFROM:+0100
TZOFFSETTO:+0200
TZNAME:CEST
DTSTART:20250330T010000
END:DAYLIGHT
BEGIN:STANDARD
TZOFFSETFROM:+0200
TZOFFSETTO:+0100
TZNAME:CET
DTSTART:20251026T010000
END:STANDARD
BEGIN:DAYLIGHT
TZOFFSETFROM:+0100
TZOFFSETTO:+0200
TZNAME:CEST
DTSTART:20260329T010000
END:DAYLIGHT
BEGIN:STANDARD
TZOFFSETFROM:+0200
TZOFFSETTO:+0100
TZNAME:CET
DTSTART:20261025T010000
END:STANDARD
END:VTIMEZONE
BEGIN:VEVENT
DTSTART;TZID=Europe/Paris:20250801T193000
DTEND;TZID=Europe/Paris:20250801T230000
DTSTAMP:20260422T084305
CREATED:20250619T215957Z
LAST-MODIFIED:20250619T215957Z
UID:20879-1754076600-1754089200@marquestauandco.com
SUMMARY:Le Buffet du chef
DESCRIPTION:Rejoignez-nous le vendredi 1er août au Domaine de Marquestau! \nUn moment convivial et gourmand vous attend\, avec des plats généreux mêlant tradition et créativité\, le tout dans une ambiance chaleureuse. Venez savourer des produits du terroir\, fraîchement préparés\, et découvrez les saveurs authentiques du domaine. Un véritable rendez-vous pour les épicuriens et les amateurs de moments partagés !
URL:https://marquestauandco.com/agenda/le-buffet-du-chef-10/
LOCATION:l’éTable\, 1095\, Route de Marquestau\, Hontanx\, 40190\, France
CATEGORIES:Evenements
ATTACH;FMTTYPE=image/jpeg:https://marquestauandco.com/wp-content/uploads/marquestau-buffets.jpg
ORGANIZER;CN="L'%C3%A9Table de Marquestau":MAILTO:etable@marquestau.com
END:VEVENT
BEGIN:VEVENT
DTSTART;TZID=Europe/Paris:20250802T193000
DTEND;TZID=Europe/Paris:20250802T230000
DTSTAMP:20260422T084305
CREATED:20250619T215830Z
LAST-MODIFIED:20250913T221819Z
UID:20877-1754163000-1754175600@marquestauandco.com
SUMMARY:Le Buffet du chef
DESCRIPTION:Rejoignez-nous le samedi 2 août au Domaine de Marquestau! \nUn moment convivial et gourmand vous attend\, avec des plats généreux mêlant tradition et créativité\, le tout dans une ambiance chaleureuse. Venez savourer des produits du terroir\, fraîchement préparés\, et découvrez les saveurs authentiques du domaine. Un véritable rendez-vous pour les épicuriens et les amateurs de moments partagés !
URL:https://marquestauandco.com/agenda/le-buffet-du-chef-9/
LOCATION:l’éTable\, 1095\, Route de Marquestau\, Hontanx\, 40190\, France
CATEGORIES:Evenements
ATTACH;FMTTYPE=image/jpeg:https://marquestauandco.com/wp-content/uploads/marquestau-buffets.jpg
ORGANIZER;CN="L'%C3%A9Table de Marquestau":MAILTO:etable@marquestau.com
END:VEVENT
BEGIN:VEVENT
DTSTART;TZID=Europe/Paris:20250803T110000
DTEND;TZID=Europe/Paris:20250803T170000
DTSTAMP:20260422T084305
CREATED:20250619T211422Z
LAST-MODIFIED:20250913T221819Z
UID:20850-1754218800-1754240400@marquestauandco.com
SUMMARY:Brunch
DESCRIPTION:Rejoignez-nous le dimanche 3 août au Domaine de Marquestau! \nUn moment convivial et gourmand vous attend\, avec des plats généreux mêlant tradition et créativité\, le tout dans une ambiance chaleureuse. Venez savourer des produits du terroir\, fraîchement préparés\, et découvrez les saveurs authentiques du domaine. Un véritable rendez-vous pour les épicuriens et les amateurs de moments partagés !
URL:https://marquestauandco.com/agenda/brunch-42/
LOCATION:l’éTable\, 1095\, Route de Marquestau\, Hontanx\, 40190\, France
CATEGORIES:Brunchs,Evenements
ATTACH;FMTTYPE=image/jpeg:https://marquestauandco.com/wp-content/uploads/marquestau-brunch-1.jpg
ORGANIZER;CN="L'%C3%A9Table de Marquestau":MAILTO:etable@marquestau.com
END:VEVENT
BEGIN:VEVENT
DTSTART;TZID=Europe/Paris:20250803T110000
DTEND;TZID=Europe/Paris:20250803T170000
DTSTAMP:20260422T084305
CREATED:20250805T143004Z
LAST-MODIFIED:20250913T221819Z
UID:22633-1754218800-1754240400@marquestauandco.com
SUMMARY:Brunch
DESCRIPTION:Rejoignez-nous le vendredi 15 août au Domaine de Marquestau! \nUn moment convivial et gourmand vous attend\, avec des plats généreux mêlant tradition et créativité\, le tout dans une ambiance chaleureuse. Venez savourer des produits du terroir\, fraîchement préparés\, et découvrez les saveurs authentiques du domaine. Un véritable rendez-vous pour les épicuriens et les amateurs de moments partagés !
URL:https://marquestauandco.com/agenda/brunch-54/
LOCATION:l’éTable\, 1095\, Route de Marquestau\, Hontanx\, 40190\, France
CATEGORIES:Brunchs,Evenements
ATTACH;FMTTYPE=image/png:https://marquestauandco.com/wp-content/uploads/marquestau-etable-15-aout.png
ORGANIZER;CN="L'%C3%A9Table de Marquestau":MAILTO:etable@marquestau.com
END:VEVENT
BEGIN:VEVENT
DTSTART;TZID=Europe/Paris:20250815T193000
DTEND;TZID=Europe/Paris:20250815T230000
DTSTAMP:20260422T084305
CREATED:20250721T195748Z
LAST-MODIFIED:20250913T221819Z
UID:22062-1755286200-1755298800@marquestauandco.com
SUMMARY:Le Buffet du chef
DESCRIPTION:Rejoignez-nous le vendredi 15 août au Domaine de Marquestau! \nUn moment convivial et gourmand vous attend\, avec des plats généreux mêlant tradition et créativité\, le tout dans une ambiance chaleureuse. Venez savourer des produits du terroir\, fraîchement préparés\, et découvrez les saveurs authentiques du domaine. Un véritable rendez-vous pour les épicuriens et les amateurs de moments partagés !
URL:https://marquestauandco.com/agenda/le-buffet-du-chef-12/
LOCATION:l’éTable\, 1095\, Route de Marquestau\, Hontanx\, 40190\, France
CATEGORIES:Evenements
ATTACH;FMTTYPE=image/jpeg:https://marquestauandco.com/wp-content/uploads/marquestau-buffets.jpg
ORGANIZER;CN="L'%C3%A9Table de Marquestau":MAILTO:etable@marquestau.com
END:VEVENT
BEGIN:VEVENT
DTSTART;TZID=Europe/Paris:20250816T193000
DTEND;TZID=Europe/Paris:20250816T230000
DTSTAMP:20260422T084305
CREATED:20250721T195657Z
LAST-MODIFIED:20250913T221819Z
UID:22060-1755372600-1755385200@marquestauandco.com
SUMMARY:Le Buffet du chef
DESCRIPTION:Rejoignez-nous le samedi 16 août au Domaine de Marquestau! \nUn moment convivial et gourmand vous attend\, avec des plats généreux mêlant tradition et créativité\, le tout dans une ambiance chaleureuse. Venez savourer des produits du terroir\, fraîchement préparés\, et découvrez les saveurs authentiques du domaine. Un véritable rendez-vous pour les épicuriens et les amateurs de moments partagés !
URL:https://marquestauandco.com/agenda/le-buffet-du-chef-11/
LOCATION:l’éTable\, 1095\, Route de Marquestau\, Hontanx\, 40190\, France
CATEGORIES:Evenements
ATTACH;FMTTYPE=image/jpeg:https://marquestauandco.com/wp-content/uploads/marquestau-buffets.jpg
ORGANIZER;CN="L'%C3%A9Table de Marquestau":MAILTO:etable@marquestau.com
END:VEVENT
BEGIN:VEVENT
DTSTART;TZID=Europe/Paris:20250817T110000
DTEND;TZID=Europe/Paris:20250817T170000
DTSTAMP:20260422T084305
CREATED:20250619T211504Z
LAST-MODIFIED:20250913T221819Z
UID:20852-1755428400-1755450000@marquestauandco.com
SUMMARY:Brunch
DESCRIPTION:Rejoignez-nous le dimanche 17 août au Domaine de Marquestau! \nUn moment convivial et gourmand vous attend\, avec des plats généreux mêlant tradition et créativité\, le tout dans une ambiance chaleureuse. Venez savourer des produits du terroir\, fraîchement préparés\, et découvrez les saveurs authentiques du domaine. Un véritable rendez-vous pour les épicuriens et les amateurs de moments partagés !
URL:https://marquestauandco.com/agenda/brunch-43/
LOCATION:l’éTable\, 1095\, Route de Marquestau\, Hontanx\, 40190\, France
CATEGORIES:Brunchs,Evenements
ATTACH;FMTTYPE=image/jpeg:https://marquestauandco.com/wp-content/uploads/marquestau-brunch-1.jpg
ORGANIZER;CN="L'%C3%A9Table de Marquestau":MAILTO:etable@marquestau.com
END:VEVENT
BEGIN:VEVENT
DTSTART;TZID=Europe/Paris:20250823T110000
DTEND;TZID=Europe/Paris:20250823T170000
DTSTAMP:20260422T084305
CREATED:20250721T195357Z
LAST-MODIFIED:20250913T221819Z
UID:22056-1755946800-1755968400@marquestauandco.com
SUMMARY:Brunch
DESCRIPTION:Rejoignez-nous le samedi 23 août au Domaine de Marquestau! \nUn moment convivial et gourmand vous attend\, avec des plats généreux mêlant tradition et créativité\, le tout dans une ambiance chaleureuse. Venez savourer des produits du terroir\, fraîchement préparés\, et découvrez les saveurs authentiques du domaine. Un véritable rendez-vous pour les épicuriens et les amateurs de moments partagés !
URL:https://marquestauandco.com/agenda/brunch-50/
LOCATION:l’éTable\, 1095\, Route de Marquestau\, Hontanx\, 40190\, France
CATEGORIES:Brunchs,Evenements
ATTACH;FMTTYPE=image/jpeg:https://marquestauandco.com/wp-content/uploads/marquestau-brunch-1.jpg
ORGANIZER;CN="L'%C3%A9Table de Marquestau":MAILTO:etable@marquestau.com
END:VEVENT
BEGIN:VEVENT
DTSTART;TZID=Europe/Paris:20250824T110000
DTEND;TZID=Europe/Paris:20250824T170000
DTSTAMP:20260422T084305
CREATED:20250619T211557Z
LAST-MODIFIED:20250913T221819Z
UID:20854-1756033200-1756054800@marquestauandco.com
SUMMARY:Brunch
DESCRIPTION:Rejoignez-nous le dimanche 24 août au Domaine de Marquestau! \nUn moment convivial et gourmand vous attend\, avec des plats généreux mêlant tradition et créativité\, le tout dans une ambiance chaleureuse. Venez savourer des produits du terroir\, fraîchement préparés\, et découvrez les saveurs authentiques du domaine. Un véritable rendez-vous pour les épicuriens et les amateurs de moments partagés !
URL:https://marquestauandco.com/agenda/brunch-44/
LOCATION:l’éTable\, 1095\, Route de Marquestau\, Hontanx\, 40190\, France
CATEGORIES:Brunchs,Evenements
ATTACH;FMTTYPE=image/jpeg:https://marquestauandco.com/wp-content/uploads/marquestau-brunch-1.jpg
ORGANIZER;CN="L'%C3%A9Table de Marquestau":MAILTO:etable@marquestau.com
END:VEVENT
BEGIN:VEVENT
DTSTART;TZID=Europe/Paris:20250830T110000
DTEND;TZID=Europe/Paris:20250830T160000
DTSTAMP:20260422T084305
CREATED:20250721T195449Z
LAST-MODIFIED:20250913T221819Z
UID:22058-1756551600-1756569600@marquestauandco.com
SUMMARY:Brunch
DESCRIPTION:Rejoignez-nous le samedi 30 août au Domaine de Marquestau! \nUn moment convivial et gourmand vous attend\, avec des plats généreux mêlant tradition et créativité\, le tout dans une ambiance chaleureuse. Venez savourer des produits du terroir\, fraîchement préparés\, et découvrez les saveurs authentiques du domaine. Un véritable rendez-vous pour les épicuriens et les amateurs de moments partagés !
URL:https://marquestauandco.com/agenda/brunch-51/
LOCATION:l’éTable\, 1095\, Route de Marquestau\, Hontanx\, 40190\, France
CATEGORIES:Brunchs,Evenements
ATTACH;FMTTYPE=image/jpeg:https://marquestauandco.com/wp-content/uploads/marquestau-brunch-1.jpg
ORGANIZER;CN="L'%C3%A9Table de Marquestau":MAILTO:etable@marquestau.com
END:VEVENT
BEGIN:VEVENT
DTSTART;TZID=Europe/Paris:20250831T110000
DTEND;TZID=Europe/Paris:20250831T170000
DTSTAMP:20260422T084305
CREATED:20250619T211633Z
LAST-MODIFIED:20250913T221819Z
UID:20856-1756638000-1756659600@marquestauandco.com
SUMMARY:Brunch
DESCRIPTION:Rejoignez-nous le dimanche 31 août au Domaine de Marquestau! \nUn moment convivial et gourmand vous attend\, avec des plats généreux mêlant tradition et créativité\, le tout dans une ambiance chaleureuse. Venez savourer des produits du terroir\, fraîchement préparés\, et découvrez les saveurs authentiques du domaine. Un véritable rendez-vous pour les épicuriens et les amateurs de moments partagés !
URL:https://marquestauandco.com/agenda/brunch-45/
LOCATION:l’éTable\, 1095\, Route de Marquestau\, Hontanx\, 40190\, France
CATEGORIES:Brunchs,Evenements
ATTACH;FMTTYPE=image/jpeg:https://marquestauandco.com/wp-content/uploads/marquestau-brunch-1.jpg
ORGANIZER;CN="L'%C3%A9Table de Marquestau":MAILTO:etable@marquestau.com
END:VEVENT
END:VCALENDAR