BEGIN:VCALENDAR
VERSION:2.0
PRODID:-//Domaine De Marquestau - ECPv6.15.20//NONSGML v1.0//EN
CALSCALE:GREGORIAN
METHOD:PUBLISH
X-ORIGINAL-URL:https://marquestauandco.com
X-WR-CALDESC:Évènements pour Domaine De Marquestau
REFRESH-INTERVAL;VALUE=DURATION:PT1H
X-Robots-Tag:noindex
X-PUBLISHED-TTL:PT1H
BEGIN:VTIMEZONE
TZID:Europe/Paris
BEGIN:DAYLIGHT
TZOFFSETFROM:+0100
TZOFFSETTO:+0200
TZNAME:CEST
DTSTART:20240331T010000
END:DAYLIGHT
BEGIN:STANDARD
TZOFFSETFROM:+0200
TZOFFSETTO:+0100
TZNAME:CET
DTSTART:20241027T010000
END:STANDARD
BEGIN:DAYLIGHT
TZOFFSETFROM:+0100
TZOFFSETTO:+0200
TZNAME:CEST
DTSTART:20250330T010000
END:DAYLIGHT
BEGIN:STANDARD
TZOFFSETFROM:+0200
TZOFFSETTO:+0100
TZNAME:CET
DTSTART:20251026T010000
END:STANDARD
BEGIN:DAYLIGHT
TZOFFSETFROM:+0100
TZOFFSETTO:+0200
TZNAME:CEST
DTSTART:20260329T010000
END:DAYLIGHT
BEGIN:STANDARD
TZOFFSETFROM:+0200
TZOFFSETTO:+0100
TZNAME:CET
DTSTART:20261025T010000
END:STANDARD
END:VTIMEZONE
BEGIN:VEVENT
DTSTART;TZID=Europe/Paris:20251101T110000
DTEND;TZID=Europe/Paris:20251101T170000
DTSTAMP:20260422T033931
CREATED:20251023T202802Z
LAST-MODIFIED:20251023T202802Z
UID:25151-1761994800-1762016400@marquestauandco.com
SUMMARY:Brunch
DESCRIPTION:Rejoignez-nous le Samedi 1er novembre au Domaine de Marquestau! \nUn moment convivial et gourmand vous attend\, avec des plats généreux mêlant tradition et créativité\, le tout dans une ambiance chaleureuse. Venez savourer des produits du terroir\, fraîchement préparés\, et découvrez les saveurs authentiques du domaine. Un véritable rendez-vous pour les épicuriens et les amateurs de moments partagés !
URL:https://marquestauandco.com/agenda/brunch-65/
LOCATION:l’éTable\, 1095\, Route de Marquestau\, Hontanx\, 40190\, France
CATEGORIES:Brunchs,Evenements
ATTACH;FMTTYPE=image/jpeg:https://marquestauandco.com/wp-content/uploads/marquestau-brunch-1.jpg
ORGANIZER;CN="L'%C3%A9Table de Marquestau":MAILTO:etable@marquestau.com
END:VEVENT
BEGIN:VEVENT
DTSTART;TZID=Europe/Paris:20251101T193000
DTEND;TZID=Europe/Paris:20251101T230000
DTSTAMP:20260422T033931
CREATED:20251023T202936Z
LAST-MODIFIED:20251023T202936Z
UID:25153-1762025400-1762038000@marquestauandco.com
SUMMARY:Le Buffet du chef
DESCRIPTION:Rejoignez-nous le samedi 1er novembre août au Domaine de Marquestau! \nUn moment convivial et gourmand vous attend\, avec des plats généreux mêlant tradition et créativité\, le tout dans une ambiance chaleureuse. Venez savourer des produits du terroir\, fraîchement préparés\, et découvrez les saveurs authentiques du domaine. Un véritable rendez-vous pour les épicuriens et les amateurs de moments partagés !
URL:https://marquestauandco.com/agenda/le-buffet-du-chef-13/
LOCATION:l’éTable\, 1095\, Route de Marquestau\, Hontanx\, 40190\, France
CATEGORIES:Evenements
ATTACH;FMTTYPE=image/jpeg:https://marquestauandco.com/wp-content/uploads/marquestau-buffets.jpg
ORGANIZER;CN="L'%C3%A9Table de Marquestau":MAILTO:etable@marquestau.com
END:VEVENT
BEGIN:VEVENT
DTSTART;TZID=Europe/Paris:20251102T110000
DTEND;TZID=Europe/Paris:20251102T170000
DTSTAMP:20260422T033931
CREATED:20251013T115859Z
LAST-MODIFIED:20251013T115859Z
UID:24892-1762081200-1762102800@marquestauandco.com
SUMMARY:Brunch
DESCRIPTION:Rejoignez-nous le dimanche 2 novembre au Domaine de Marquestau! \nUn moment convivial et gourmand vous attend\, avec des plats généreux mêlant tradition et créativité\, le tout dans une ambiance chaleureuse. Venez savourer des produits du terroir\, fraîchement préparés\, et découvrez les saveurs authentiques du domaine. Un véritable rendez-vous pour les épicuriens et les amateurs de moments partagés !
URL:https://marquestauandco.com/agenda/brunch-59/
LOCATION:l’éTable\, 1095\, Route de Marquestau\, Hontanx\, 40190\, France
CATEGORIES:Brunchs,Evenements
ATTACH;FMTTYPE=image/jpeg:https://marquestauandco.com/wp-content/uploads/marquestau-brunch-1.jpg
ORGANIZER;CN="L'%C3%A9Table de Marquestau":MAILTO:etable@marquestau.com
END:VEVENT
BEGIN:VEVENT
DTSTART;TZID=Europe/Paris:20251109T110000
DTEND;TZID=Europe/Paris:20251109T170000
DTSTAMP:20260422T033931
CREATED:20251013T115934Z
LAST-MODIFIED:20251013T115934Z
UID:24894-1762686000-1762707600@marquestauandco.com
SUMMARY:Brunch
DESCRIPTION:Rejoignez-nous le dimanche 9 novembre au Domaine de Marquestau! \nUn moment convivial et gourmand vous attend\, avec des plats généreux mêlant tradition et créativité\, le tout dans une ambiance chaleureuse. Venez savourer des produits du terroir\, fraîchement préparés\, et découvrez les saveurs authentiques du domaine. Un véritable rendez-vous pour les épicuriens et les amateurs de moments partagés !
URL:https://marquestauandco.com/agenda/brunch-60/
LOCATION:l’éTable\, 1095\, Route de Marquestau\, Hontanx\, 40190\, France
CATEGORIES:Brunchs,Evenements
ATTACH;FMTTYPE=image/jpeg:https://marquestauandco.com/wp-content/uploads/marquestau-brunch-1.jpg
ORGANIZER;CN="L'%C3%A9Table de Marquestau":MAILTO:etable@marquestau.com
END:VEVENT
BEGIN:VEVENT
DTSTART;TZID=Europe/Paris:20251111T110000
DTEND;TZID=Europe/Paris:20251111T170000
DTSTAMP:20260422T033931
CREATED:20251013T120039Z
LAST-MODIFIED:20251013T120039Z
UID:24896-1762858800-1762880400@marquestauandco.com
SUMMARY:Brunch
DESCRIPTION:Rejoignez-nous le mardi 11 novembre au Domaine de Marquestau! \nUn moment convivial et gourmand vous attend\, avec des plats généreux mêlant tradition et créativité\, le tout dans une ambiance chaleureuse. Venez savourer des produits du terroir\, fraîchement préparés\, et découvrez les saveurs authentiques du domaine. Un véritable rendez-vous pour les épicuriens et les amateurs de moments partagés !
URL:https://marquestauandco.com/agenda/brunch-61/
LOCATION:l’éTable\, 1095\, Route de Marquestau\, Hontanx\, 40190\, France
CATEGORIES:Brunchs,Evenements
ATTACH;FMTTYPE=image/jpeg:https://marquestauandco.com/wp-content/uploads/marquestau-11-novembre.jpg
ORGANIZER;CN="L'%C3%A9Table de Marquestau":MAILTO:etable@marquestau.com
END:VEVENT
BEGIN:VEVENT
DTSTART;TZID=Europe/Paris:20251116T110000
DTEND;TZID=Europe/Paris:20251116T170000
DTSTAMP:20260422T033931
CREATED:20251020T140848Z
LAST-MODIFIED:20251021T130813Z
UID:25073-1763290800-1763312400@marquestauandco.com
SUMMARY:Brunch
DESCRIPTION:Rejoignez-nous le dimanche 16 novembre au Domaine de Marquestau! \nUn moment convivial et gourmand vous attend\, avec des plats généreux mêlant tradition et créativité\, le tout dans une ambiance chaleureuse. Venez savourer des produits du terroir\, fraîchement préparés\, et découvrez les saveurs authentiques du domaine. Un véritable rendez-vous pour les épicuriens et les amateurs de moments partagés !
URL:https://marquestauandco.com/agenda/brunch-62/
LOCATION:l’éTable\, 1095\, Route de Marquestau\, Hontanx\, 40190\, France
CATEGORIES:Brunchs,Evenements
ATTACH;FMTTYPE=image/jpeg:https://marquestauandco.com/wp-content/uploads/marquestau-brunch-1.jpg
ORGANIZER;CN="L'%C3%A9Table de Marquestau":MAILTO:etable@marquestau.com
END:VEVENT
BEGIN:VEVENT
DTSTART;TZID=Europe/Paris:20251123T110000
DTEND;TZID=Europe/Paris:20251123T170000
DTSTAMP:20260422T033931
CREATED:20251020T140934Z
LAST-MODIFIED:20251021T130900Z
UID:25075-1763895600-1763917200@marquestauandco.com
SUMMARY:Brunch
DESCRIPTION:Rejoignez-nous le dimanche 23 novembre au Domaine de Marquestau! \nUn moment convivial et gourmand vous attend\, avec des plats généreux mêlant tradition et créativité\, le tout dans une ambiance chaleureuse. Venez savourer des produits du terroir\, fraîchement préparés\, et découvrez les saveurs authentiques du domaine. Un véritable rendez-vous pour les épicuriens et les amateurs de moments partagés !
URL:https://marquestauandco.com/agenda/brunch-63/
LOCATION:l’éTable\, 1095\, Route de Marquestau\, Hontanx\, 40190\, France
CATEGORIES:Brunchs,Evenements
ATTACH;FMTTYPE=image/jpeg:https://marquestauandco.com/wp-content/uploads/marquestau-brunch-1.jpg
ORGANIZER;CN="L'%C3%A9Table de Marquestau":MAILTO:etable@marquestau.com
END:VEVENT
BEGIN:VEVENT
DTSTART;TZID=Europe/Paris:20251130T110000
DTEND;TZID=Europe/Paris:20251130T170000
DTSTAMP:20260422T033931
CREATED:20251020T141009Z
LAST-MODIFIED:20251021T132829Z
UID:25077-1764500400-1764522000@marquestauandco.com
SUMMARY:Brunch
DESCRIPTION:Rejoignez-nous le dimanche 30 novembre au Domaine de Marquestau! \nUn moment convivial et gourmand vous attend\, avec des plats généreux mêlant tradition et créativité\, le tout dans une ambiance chaleureuse. Venez savourer des produits du terroir\, fraîchement préparés\, et découvrez les saveurs authentiques du domaine. Un véritable rendez-vous pour les épicuriens et les amateurs de moments partagés !
URL:https://marquestauandco.com/agenda/brunch-64/
LOCATION:l’éTable\, 1095\, Route de Marquestau\, Hontanx\, 40190\, France
CATEGORIES:Brunchs,Evenements
ATTACH;FMTTYPE=image/jpeg:https://marquestauandco.com/wp-content/uploads/marquestau-brunch-1.jpg
ORGANIZER;CN="L'%C3%A9Table de Marquestau":MAILTO:etable@marquestau.com
END:VEVENT
END:VCALENDAR