BEGIN:VCALENDAR
VERSION:2.0
PRODID:-//Domaine De Marquestau - ECPv6.15.20//NONSGML v1.0//EN
CALSCALE:GREGORIAN
METHOD:PUBLISH
X-ORIGINAL-URL:https://marquestauandco.com
X-WR-CALDESC:Évènements pour Domaine De Marquestau
REFRESH-INTERVAL;VALUE=DURATION:PT1H
X-Robots-Tag:noindex
X-PUBLISHED-TTL:PT1H
BEGIN:VTIMEZONE
TZID:Europe/Paris
BEGIN:DAYLIGHT
TZOFFSETFROM:+0100
TZOFFSETTO:+0200
TZNAME:CEST
DTSTART:20250330T010000
END:DAYLIGHT
BEGIN:STANDARD
TZOFFSETFROM:+0200
TZOFFSETTO:+0100
TZNAME:CET
DTSTART:20251026T010000
END:STANDARD
BEGIN:DAYLIGHT
TZOFFSETFROM:+0100
TZOFFSETTO:+0200
TZNAME:CEST
DTSTART:20260329T010000
END:DAYLIGHT
BEGIN:STANDARD
TZOFFSETFROM:+0200
TZOFFSETTO:+0100
TZNAME:CET
DTSTART:20261025T010000
END:STANDARD
BEGIN:DAYLIGHT
TZOFFSETFROM:+0100
TZOFFSETTO:+0200
TZNAME:CEST
DTSTART:20270328T010000
END:DAYLIGHT
BEGIN:STANDARD
TZOFFSETFROM:+0200
TZOFFSETTO:+0100
TZNAME:CET
DTSTART:20271031T010000
END:STANDARD
END:VTIMEZONE
BEGIN:VEVENT
DTSTART;TZID=Europe/Paris:20260101T110000
DTEND;TZID=Europe/Paris:20260101T170000
DTSTAMP:20260422T003723
CREATED:20251218T223302Z
LAST-MODIFIED:20251218T224141Z
UID:28160-1767265200-1767286800@marquestauandco.com
SUMMARY:Brunch du 1er Janvier
DESCRIPTION:Commencez l’année en douceur autour du Brunch du 1er janvier à l’Étable.Un moment convivial pour se retrouver\, prendre le temps et bien démarrer l’année. \nAu menu : un buffet généreux\, des plats chauds\, des desserts maison et les cocktails Marquestau\, dans l’ambiance chaleureuse du Domaine. \nQue vous soyez en famille ou entre amis\, ce brunch est l’occasion parfaite de prolonger les fêtes autour d’une belle table. \n 
URL:https://marquestauandco.com/agenda/brunch-du-1er-janvier/
LOCATION:l’éTable\, 1095\, Route de Marquestau\, Hontanx\, 40190\, France
CATEGORIES:Brunchs,Evenements
ATTACH;FMTTYPE=image/jpeg:https://marquestauandco.com/wp-content/uploads/etable-Brunch-20206-01-01.jpg
ORGANIZER;CN="L'%C3%A9Table de Marquestau":MAILTO:etable@marquestau.com
END:VEVENT
BEGIN:VEVENT
DTSTART;TZID=Europe/Paris:20260104T110000
DTEND;TZID=Europe/Paris:20260104T160000
DTSTAMP:20260422T003723
CREATED:20251216T231033Z
LAST-MODIFIED:20251216T231121Z
UID:27922-1767524400-1767542400@marquestauandco.com
SUMMARY:Brunch
DESCRIPTION:Rejoignez-nous le dimanche 3 janvier au Domaine de Marquestau! \nUn moment convivial et gourmand vous attend\, avec des plats généreux mêlant tradition et créativité\, le tout dans une ambiance chaleureuse. Venez savourer des produits du terroir\, fraîchement préparés\, et découvrez les saveurs authentiques du domaine. Un véritable rendez-vous pour les épicuriens et les amateurs de moments partagés !
URL:https://marquestauandco.com/agenda/brunch-68/
LOCATION:l’éTable\, 1095\, Route de Marquestau\, Hontanx\, 40190\, France
CATEGORIES:Brunchs,Evenements
ATTACH;FMTTYPE=image/jpeg:https://marquestauandco.com/wp-content/uploads/marquestau-brunch-1.jpg
ORGANIZER;CN="L'%C3%A9Table de Marquestau":MAILTO:etable@marquestau.com
END:VEVENT
BEGIN:VEVENT
DTSTART;TZID=Europe/Paris:20260111T110000
DTEND;TZID=Europe/Paris:20260111T160000
DTSTAMP:20260422T003723
CREATED:20251216T231150Z
LAST-MODIFIED:20251216T231203Z
UID:27926-1768129200-1768147200@marquestauandco.com
SUMMARY:Brunch
DESCRIPTION:Rejoignez-nous le dimanche 11 janvier au Domaine de Marquestau! \nUn moment convivial et gourmand vous attend\, avec des plats généreux mêlant tradition et créativité\, le tout dans une ambiance chaleureuse. Venez savourer des produits du terroir\, fraîchement préparés\, et découvrez les saveurs authentiques du domaine. Un véritable rendez-vous pour les épicuriens et les amateurs de moments partagés !
URL:https://marquestauandco.com/agenda/brunch-69/
LOCATION:l’éTable\, 1095\, Route de Marquestau\, Hontanx\, 40190\, France
CATEGORIES:Brunchs,Evenements
ATTACH;FMTTYPE=image/jpeg:https://marquestauandco.com/wp-content/uploads/marquestau-brunch-1.jpg
ORGANIZER;CN="L'%C3%A9Table de Marquestau":MAILTO:etable@marquestau.com
END:VEVENT
BEGIN:VEVENT
DTSTART;TZID=Europe/Paris:20260118T110000
DTEND;TZID=Europe/Paris:20260118T160000
DTSTAMP:20260422T003723
CREATED:20251216T231236Z
LAST-MODIFIED:20251216T231236Z
UID:27929-1768734000-1768752000@marquestauandco.com
SUMMARY:Brunch
DESCRIPTION:Rejoignez-nous le dimanche 18 janvier au Domaine de Marquestau! \nUn moment convivial et gourmand vous attend\, avec des plats généreux mêlant tradition et créativité\, le tout dans une ambiance chaleureuse. Venez savourer des produits du terroir\, fraîchement préparés\, et découvrez les saveurs authentiques du domaine. Un véritable rendez-vous pour les épicuriens et les amateurs de moments partagés !
URL:https://marquestauandco.com/agenda/brunch-70/
LOCATION:l’éTable\, 1095\, Route de Marquestau\, Hontanx\, 40190\, France
CATEGORIES:Brunchs,Evenements
ATTACH;FMTTYPE=image/jpeg:https://marquestauandco.com/wp-content/uploads/marquestau-brunch-1.jpg
ORGANIZER;CN="L'%C3%A9Table de Marquestau":MAILTO:etable@marquestau.com
END:VEVENT
BEGIN:VEVENT
DTSTART;TZID=Europe/Paris:20260125T110000
DTEND;TZID=Europe/Paris:20260125T160000
DTSTAMP:20260422T003723
CREATED:20251216T231308Z
LAST-MODIFIED:20251216T231308Z
UID:27931-1769338800-1769356800@marquestauandco.com
SUMMARY:Brunch
DESCRIPTION:Rejoignez-nous le dimanche 25 janvier au Domaine de Marquestau! \nUn moment convivial et gourmand vous attend\, avec des plats généreux mêlant tradition et créativité\, le tout dans une ambiance chaleureuse. Venez savourer des produits du terroir\, fraîchement préparés\, et découvrez les saveurs authentiques du domaine. Un véritable rendez-vous pour les épicuriens et les amateurs de moments partagés !
URL:https://marquestauandco.com/agenda/brunch-71/
LOCATION:l’éTable\, 1095\, Route de Marquestau\, Hontanx\, 40190\, France
CATEGORIES:Brunchs,Evenements
ATTACH;FMTTYPE=image/jpeg:https://marquestauandco.com/wp-content/uploads/marquestau-brunch-1.jpg
ORGANIZER;CN="L'%C3%A9Table de Marquestau":MAILTO:etable@marquestau.com
END:VEVENT
END:VCALENDAR